BEGIN:VCALENDAR
VERSION:2.0
PRODID:-//Portal Kujawski - najważniejsze wydarzenia z regionu - ECPv6.15.20//NONSGML v1.0//EN
CALSCALE:GREGORIAN
METHOD:PUBLISH
X-WR-CALNAME:Portal Kujawski - najważniejsze wydarzenia z regionu
X-ORIGINAL-URL:https://portalkujawski.pl
X-WR-CALDESC:Wydarzenia dla Portal Kujawski - najważniejsze wydarzenia z regionu
REFRESH-INTERVAL;VALUE=DURATION:PT1H
X-Robots-Tag:noindex
X-PUBLISHED-TTL:PT1H
BEGIN:VTIMEZONE
TZID:Europe/Warsaw
BEGIN:DAYLIGHT
TZOFFSETFROM:+0100
TZOFFSETTO:+0200
TZNAME:CEST
DTSTART:20250330T010000
END:DAYLIGHT
BEGIN:STANDARD
TZOFFSETFROM:+0200
TZOFFSETTO:+0100
TZNAME:CET
DTSTART:20251026T010000
END:STANDARD
BEGIN:DAYLIGHT
TZOFFSETFROM:+0100
TZOFFSETTO:+0200
TZNAME:CEST
DTSTART:20260329T010000
END:DAYLIGHT
BEGIN:STANDARD
TZOFFSETFROM:+0200
TZOFFSETTO:+0100
TZNAME:CET
DTSTART:20261025T010000
END:STANDARD
BEGIN:DAYLIGHT
TZOFFSETFROM:+0100
TZOFFSETTO:+0200
TZNAME:CEST
DTSTART:20270328T010000
END:DAYLIGHT
BEGIN:STANDARD
TZOFFSETFROM:+0200
TZOFFSETTO:+0100
TZNAME:CET
DTSTART:20271031T010000
END:STANDARD
END:VTIMEZONE
BEGIN:VEVENT
DTSTART;TZID=Europe/Warsaw:20260425T110000
DTEND;TZID=Europe/Warsaw:20260425T235900
DTSTAMP:20260423T025618
CREATED:20260422T221852Z
LAST-MODIFIED:20260422T222109Z
UID:65015-1777114800-1777161540@portalkujawski.pl
SUMMARY:Rajd rowerowy z okazji 20-lecia UKW
DESCRIPTION:Rajd rowerowy z okazji 20-lecia Uniwersytetu Kazimierza Wielkiego odbędzie się jako wydarzenie rozpoczynające obchody 25 kwietnia 2026 roku. Start przewidziano przy ul. Chodkiewicza 30. Wydarzenie jest częścią programu Święta Uniwersytetu Kazimierza Wielkiego. \nGodzina rozpoczęcia: 11:00\nMiejsce:Chodkiewicza 30 \nadminSectetur adipiscing elit. Sed nisi ipsum\, aliquet ac vulputate eu\, congue nec diam. Mauris ligula metus\, tempus eget scelerisque nec\, aliquet et risus. Nulla consequat elit vel ipsum pharetra quis tempor metus varius.
URL:https://portalkujawski.pl/event/rajd-rowerowy-z-okazji-20-lecia-ukw-3/
END:VEVENT
BEGIN:VEVENT
DTSTART;TZID=Europe/Warsaw:20260425T130000
DTEND;TZID=Europe/Warsaw:20260425T235900
DTSTAMP:20260423T025618
CREATED:20260422T221855Z
LAST-MODIFIED:20260422T222115Z
UID:65016-1777122000-1777161540@portalkujawski.pl
SUMMARY:Piknik Uniwersytecki na Wyspie Młyńskiej
DESCRIPTION:Piknik Uniwersytecki na Wyspie Młyńskiej to otwarte wydarzenie organizowane wspólnie z Urzędem Miasta Bydgoszczy. Jest skierowane do społeczności akademickiej oraz mieszkanek i mieszkańców Bydgoszczy. Wydarzenie ma charakter integracyjny i towarzyszy obchodom Święta UKW. \nGodzina rozpoczęcia: 13:00\nMiejsce:Wyspa Młyńska\, Bydgoszcz \nadminSectetur adipiscing elit. Sed nisi ipsum\, aliquet ac vulputate eu\, congue nec diam. Mauris ligula metus\, tempus eget scelerisque nec\, aliquet et risus. Nulla consequat elit vel ipsum pharetra quis tempor metus varius.
URL:https://portalkujawski.pl/event/piknik-uniwersytecki-na-wyspie-mlynskiej-2/
END:VEVENT
BEGIN:VEVENT
DTSTART;TZID=Europe/Warsaw:20260425T170000
DTEND;TZID=Europe/Warsaw:20260425T235900
DTSTAMP:20260423T025618
CREATED:20260422T221909Z
LAST-MODIFIED:20260422T222130Z
UID:65018-1777136400-1777161540@portalkujawski.pl
SUMMARY:Koncert na Święto Uniwersytetu Kazimierza Wielkiego
DESCRIPTION:Koncert z okazji Święta Uniwersytetu Kazimierza Wielkiego odbędzie się w Filharmonii Pomorskiej. Wydarzenie jest biletowane i przeznaczone dla społeczności akademickiej oraz mieszkanek i mieszkańców Bydgoszczy. Organizatorzy przewidzieli wsparcie z ZFŚS. \nGodzina rozpoczęcia: 17:00\nMiejsce:Filharmonia Pomorska\, Bydgoszcz \nadminSectetur adipiscing elit. Sed nisi ipsum\, aliquet ac vulputate eu\, congue nec diam. Mauris ligula metus\, tempus eget scelerisque nec\, aliquet et risus. Nulla consequat elit vel ipsum pharetra quis tempor metus varius.
URL:https://portalkujawski.pl/event/koncert-na-swieto-uniwersytetu-kazimierza-wielkiego-3/
END:VEVENT
BEGIN:VEVENT
DTSTART;TZID=Europe/Warsaw:20260425T180000
DTEND;TZID=Europe/Warsaw:20260425T235900
DTSTAMP:20260423T025618
CREATED:20260422T221903Z
LAST-MODIFIED:20260422T222149Z
UID:65017-1777140000-1777161540@portalkujawski.pl
SUMMARY:Koncert zespołu KODA
DESCRIPTION:Koncert zespołu KODA z Wydziału Edukacji Muzycznej UKW odbędzie się 25 kwietnia 2026 roku. To jedno z wydarzeń towarzyszących obchodom uniwersyteckim. Koncert stanowi część kulturalnego programu święta uczelni. \nGodzina rozpoczęcia: 18:00\nMiejsce:Bydgoszcz \nadminSectetur adipiscing elit. Sed nisi ipsum\, aliquet ac vulputate eu\, congue nec diam. Mauris ligula metus\, tempus eget scelerisque nec\, aliquet et risus. Nulla consequat elit vel ipsum pharetra quis tempor metus varius.
URL:https://portalkujawski.pl/event/koncert-zespolu-koda-3/
END:VEVENT
BEGIN:VEVENT
DTSTART;TZID=Europe/Warsaw:20260428T170000
DTEND;TZID=Europe/Warsaw:20260428T235900
DTSTAMP:20260423T025618
CREATED:20260421T214000Z
LAST-MODIFIED:20260421T215423Z
UID:64968-1777395600-1777420740@portalkujawski.pl
SUMMARY:Recital fortepianowy
DESCRIPTION:Towarzystwo Muzyczne im. I. J. Paderewskiego w Bydgoszczy zaprasza na cykl wyjątkowych koncertów w kwietniu i maju 2026 roku. W programie znalazły się recitale fortepianowe\, koncert fletowy\, wieczór muzyczno-literacki oraz koncert wokalny. Wydarzenia odbędą się przy ul. Skargi 7\, a wstęp jest wolny\, choć liczba miejsc jest ograniczona. \nadminSectetur adipiscing elit. Sed nisi ipsum\, aliquet ac vulputate eu\, congue nec diam. Mauris ligula metus\, tempus eget scelerisque nec\, aliquet et risus. Nulla consequat elit vel ipsum pharetra quis tempor metus varius.
URL:https://portalkujawski.pl/event/recital-fortepianowy/
END:VEVENT
BEGIN:VEVENT
DTSTART;TZID=Europe/Warsaw:20260506T180000
DTEND;TZID=Europe/Warsaw:20260506T235900
DTSTAMP:20260423T025618
CREATED:20260422T220731Z
LAST-MODIFIED:20260422T222157Z
UID:65003-1778090400-1778111940@portalkujawski.pl
SUMMARY:Notesy Wajdy
DESCRIPTION:Spotkanie słowno-muzyczne organizowane z okazji 100. rocznicy urodzin Andrzeja Wajdy. W programie znajdą się fragmenty notesów\, refleksje biograficzne i anegdoty w wykonaniu Jakuba Przebindowskiego. Oprawę muzyczną zapewni koncert Igora Przebindowskiego z motywami z filmów Wajdy. \nGodzina rozpoczęcia: 18:00\nMiejsce:Salonik Literacko-Artystyczny \nadminSectetur adipiscing elit. Sed nisi ipsum\, aliquet ac vulputate eu\, congue nec diam. Mauris ligula metus\, tempus eget scelerisque nec\, aliquet et risus. Nulla consequat elit vel ipsum pharetra quis tempor metus varius.
URL:https://portalkujawski.pl/event/notesy-wajdy/
END:VEVENT
BEGIN:VEVENT
DTSTART;TZID=Europe/Warsaw:20260512T170000
DTEND;TZID=Europe/Warsaw:20260512T235900
DTSTAMP:20260423T025618
CREATED:20260421T214003Z
LAST-MODIFIED:20260421T215823Z
UID:64969-1778605200-1778630340@portalkujawski.pl
SUMMARY:Kameralny koncert fletowy
DESCRIPTION:Towarzystwo Muzyczne im. I. J. Paderewskiego w Bydgoszczy zaprasza na cykl wyjątkowych koncertów w kwietniu i maju 2026 roku. W programie znalazły się recitale fortepianowe\, koncert fletowy\, wieczór muzyczno-literacki oraz koncert wokalny. Wydarzenia odbędą się przy ul. Skargi 7\, a wstęp jest wolny\, choć liczba miejsc jest ograniczona. \nadminSectetur adipiscing elit. Sed nisi ipsum\, aliquet ac vulputate eu\, congue nec diam. Mauris ligula metus\, tempus eget scelerisque nec\, aliquet et risus. Nulla consequat elit vel ipsum pharetra quis tempor metus varius.
URL:https://portalkujawski.pl/event/kameralny-koncert-fletowy/
END:VEVENT
END:VCALENDAR